BEGIN:VCALENDAR
VERSION:2.0
PRODID:-//cse-rentacar - ECPv5.8.1//NONSGML v1.0//EN
CALSCALE:GREGORIAN
METHOD:PUBLISH
X-WR-CALNAME:cse-rentacar
X-ORIGINAL-URL:https://cse-rentacar.fr/site
X-WR-CALDESC:évènements pour cse-rentacar
BEGIN:VTIMEZONE
TZID:Europe/Paris
BEGIN:DAYLIGHT
TZOFFSETFROM:+0100
TZOFFSETTO:+0200
TZNAME:CEST
DTSTART:20210328T010000
END:DAYLIGHT
BEGIN:STANDARD
TZOFFSETFROM:+0200
TZOFFSETTO:+0100
TZNAME:CET
DTSTART:20211031T010000
END:STANDARD
END:VTIMEZONE
BEGIN:VEVENT
DTSTART;VALUE=DATE:20210913
DTEND;VALUE=DATE:20211014
DTSTAMP:20260425T033029
CREATED:20210918T083515Z
LAST-MODIFIED:20210918T083515Z
UID:5183-1631491200-1634169599@cse-rentacar.fr
SUMMARY:CAMPAGNE SENSIBILISATION HANDICAP 2021
DESCRIPTION:Tous HANgagés !\n\n		\n		\n			\n				\n			\n			\n				\n			\n			\n				\n			\n			\n				\n			\n			\n				\n			\n			\n		\n\nBonjour à toutes et à tous\, \nRent a Car est heureux de vous annoncer le lancement de la nouvelle campagne de sensibilisation au handicap dès la semaine prochaine qui a pour vocation de faire comprendre et lever les stéréotypes sur le handicap. \nDans l’attente\, vous recevrez chaque jour une affiche en pièce jointe représentant une personne célèbre avec un handicap invisible afin de mettre en avant que le Handicap n’arrête jamais le talent et qu’il n’existe pas UN mais une multitude de handicaps qui ne sont pas toujours visibles de tous. \nEt parce que le handicap est un sujet important en entreprise\, dans ce cadre\, nous vous invitons dès aujourd’hui et tout au long de cette campagne à accéder à l’autodiagnostic vous permettant de savoir si vous pouvez être reconnu en tant que travailleur handicapé et ainsi bénéficier d’une RQTH (Reconnaissance en Qualité de Travailleur Handicapé) \nEn parallèle une cellule d’accompagnement est ouverte pendant toute la durée de la campagne pour répondre à vos questions et vous accompagner dans vos démarches : \n\nPar téléphone au 01.80.87.68.11\nPar mail à l’adresse suivante : accompagnement.rqth@reseau-rse.com\n\nParce qu’il est important que nous soyons Tous HANgagés ! \n« Le Handicap n’arrête jamais le talent » \nVous seul pouvez décider d’en informer votre entourage professionnel \n\n\n\nSi vous n’arrivez pas à visualiser cet email\, cliquez ici.
URL:https://cse-rentacar.fr/site/event/campagne-sensibilisation-handicap-2021/
ATTACH;FMTTYPE=image/png:https://cse-rentacar.fr/site/wp-content/uploads/2021/09/image-5.png
END:VEVENT
END:VCALENDAR