BEGIN:VCALENDAR
VERSION:2.0
PRODID:-//cse-rentacar - ECPv5.8.1//NONSGML v1.0//EN
CALSCALE:GREGORIAN
METHOD:PUBLISH
X-WR-CALNAME:cse-rentacar
X-ORIGINAL-URL:https://cse-rentacar.fr/site
X-WR-CALDESC:évènements pour cse-rentacar
BEGIN:VTIMEZONE
TZID:Europe/Paris
BEGIN:DAYLIGHT
TZOFFSETFROM:+0100
TZOFFSETTO:+0200
TZNAME:CEST
DTSTART:20220327T010000
END:DAYLIGHT
BEGIN:STANDARD
TZOFFSETFROM:+0200
TZOFFSETTO:+0100
TZNAME:CET
DTSTART:20221030T010000
END:STANDARD
END:VTIMEZONE
BEGIN:VEVENT
DTSTART;VALUE=DATE:20220216
DTEND;VALUE=DATE:20220401
DTSTAMP:20260425T014815
CREATED:20220218T093935Z
LAST-MODIFIED:20220218T094044Z
UID:5225-1644969600-1648771199@cse-rentacar.fr
SUMMARY:la Bourse Rent A Car 2022
DESCRIPTION:Activités extra-professionnelles\n\n\n\nBonjour à tous et à toutes\, \n\n\n\nAu plus près des collaborateurs ! \n\n\n\nCette année encore Rent A Car et le CSE sont désireux de vous accompagner dans vos activités extra-professionnelles. \n\n\n\nVous êtes investis dans une association ou un club sportif et vous cherchez à mettre en place un partenariat ? \n\n\n\nSachez\, que nous lançons officiellement cette année la Bourse Rent A Car pour vous aider dans l’élaboration de vos projets grâce à une participation financière. \n\n\n\nPour ce faire\, il vous suffit de nous envoyer un dossier de présentation avant le 31/03/2022. \n\n\n\nUn jury\, composé de Catherine Bourbigou\, Géraldine Gauthier pour le marketing\, Valentin Fiore et Pascal Baillet pour le CSE et enfin Fabrice Ferrane qui a bénéficié de cette bourse l’année dernière\, se réunira pour sélectionner les projets qui pourront bénéficier de cette bourse dans l’année. Vous êtes prêts\, à vos projets\, partez ! \n\n\n\n\n\n\n\n\n\nPascal Baillet\, secrétaire du CSE 0608678101
URL:https://cse-rentacar.fr/site/event/la-bourse-rent-a-car-2022/
ATTACH;FMTTYPE=image/png:https://cse-rentacar.fr/site/wp-content/uploads/2022/02/image-1.png
END:VEVENT
END:VCALENDAR