BEGIN:VCALENDAR
VERSION:2.0
PRODID:-//cse-rentacar - ECPv5.8.1//NONSGML v1.0//EN
CALSCALE:GREGORIAN
METHOD:PUBLISH
X-WR-CALNAME:cse-rentacar
X-ORIGINAL-URL:https://cse-rentacar.fr/site
X-WR-CALDESC:évènements pour cse-rentacar
BEGIN:VTIMEZONE
TZID:Europe/Paris
BEGIN:DAYLIGHT
TZOFFSETFROM:+0100
TZOFFSETTO:+0200
TZNAME:CEST
DTSTART:20220327T010000
END:DAYLIGHT
BEGIN:STANDARD
TZOFFSETFROM:+0200
TZOFFSETTO:+0100
TZNAME:CET
DTSTART:20221030T010000
END:STANDARD
BEGIN:DAYLIGHT
TZOFFSETFROM:+0100
TZOFFSETTO:+0200
TZNAME:CEST
DTSTART:20230326T010000
END:DAYLIGHT
BEGIN:STANDARD
TZOFFSETFROM:+0200
TZOFFSETTO:+0100
TZNAME:CET
DTSTART:20231029T010000
END:STANDARD
END:VTIMEZONE
BEGIN:VEVENT
DTSTART;VALUE=DATE:20221124
DTEND;VALUE=DATE:20231009
DTSTAMP:20260424T191627
CREATED:20221128T141930Z
LAST-MODIFIED:20221128T141930Z
UID:5283-1669248000-1696809599@cse-rentacar.fr
SUMMARY:CONCOUR CREATION 2022
DESCRIPTION:Ma création sur les camions !\n\n\n\nBonjour à toutes et à tous\, \nComme annoncé lors de la Convention Nationale\, nous vous proposons de contribuer à l’élaboration de nouvelles communications pour les arrières des véhicules utilitaires. \nUn Jury\, présidé par Marc Boré\, déterminera la création gagnante courant janvier 2023. \n \nQuelles sont les modalités pour participer ? \n\nUtiliser le document\, en pj\, pour envoyer vos créations en précisant bien votre nom\, prénom et agence\nConserver de la visibilité pour le logo Rent A Car\nL’humour est le bienvenu\nEcrire sur l’adresse mail : monbeaucamion@rentacar.fr\nDate limite d’envoi : 31/12/2022\n\n \nQuels seront les critères de sélection ? \n\nL’originalité de la création : inutile de copier/coller les idées des confrères 😉\nLa force du slogan associé à la partie visuelle ( image\, photo\, illustration\, dessin)\nLe thème choisi : la création pourra être utilisée par l’ensemble du Réseau ( franchisés et succursales)\nLe respect des contraintes techniques : le visuel doit s’adapter à la fenêtre de carrosserie à l’arrière du véhicule\, il faut penser à l’ouverture des portes\n\n \nQuelles récompenses pour l’auteur de la création sélectionnée ? \n\nLa fierté de voir sa création imprimée sur les véhicules !\nL’exploitation à titre gracieux d’un 3m3\, type Kangoo sur 24 mois\nUn week end pour 2 personnes en Relais & Châteaux\n\nCette communication est adressée : aux Franchisés\, aux Chefs de Région et aux Chefs de Secteur succursales : relayez le message à vos équipes ! \nNous espérons que vous serez nombreux à participer et avons hâte de recevoir vos propositions ! \nTrès cordialement \nCatherine
URL:https://cse-rentacar.fr/site/event/mon-beau-camion-concour-creation-2022/
ATTACH;FMTTYPE=image/jpeg:https://cse-rentacar.fr/site/wp-content/uploads/2022/11/grand-jeu-concours.jpg
END:VEVENT
END:VCALENDAR