BEGIN:VCALENDAR
VERSION:2.0
PRODID:-//cse-rentacar - ECPv5.8.1//NONSGML v1.0//EN
CALSCALE:GREGORIAN
METHOD:PUBLISH
X-WR-CALNAME:cse-rentacar
X-ORIGINAL-URL:https://cse-rentacar.fr/site
X-WR-CALDESC:évènements pour cse-rentacar
BEGIN:VTIMEZONE
TZID:Europe/Paris
BEGIN:DAYLIGHT
TZOFFSETFROM:+0100
TZOFFSETTO:+0200
TZNAME:CEST
DTSTART:20220327T010000
END:DAYLIGHT
BEGIN:STANDARD
TZOFFSETFROM:+0200
TZOFFSETTO:+0100
TZNAME:CET
DTSTART:20221030T010000
END:STANDARD
END:VTIMEZONE
BEGIN:VEVENT
DTSTART;TZID=Europe/Paris:20220310T120000
DTEND;TZID=Europe/Paris:20220310T140000
DTSTAMP:20260425T001337
CREATED:20220223T165520Z
LAST-MODIFIED:20220223T165520Z
UID:5236-1646913600-1646920800@cse-rentacar.fr
SUMMARY:RDV Webinar utilisateurs SWILE - JEUDI 10 MARS 2022 12H00
DESCRIPTION:Webinar utilisateurs SWILE\n \nJEUDI 10 MARS 2022 12H00\n\n\n\nBonjour à tous et à toutes\, \n\n\n\n\n\nInvitation: Swile x Rent A Car 🌟 Webinar utilisateurs – jeu. 10 mars 2022 12pm \nVeuillez vérifier votre boite mail ou vous rendre sur cette page le jour du RDV (le jeu. 10 mars 2022 12h00) afin d’accéder au lien du webinar SWILE. \nSi vous avez des questions sur la carte Swile\, la billetterie ou autres services liés à SWILE venez participer à la réunion. \nLe « webinaire »\, c’est une abréviation de web et de séminaire… Cela désigne donc une conférence en ligne à laquelle les internautes peuvent participer à distance\, sans se déplacer. \nWebinaire : comment ça marche ?\nVous recevez un e-mail de confirmation avec un lien personnalisé qui vous permettra à l’heure prévue de vous connecter au site sur lequel est retransmis la réunion. En cas de retard\, vous pouvez tout de même accéder au webinaire en cours. \nVous pouvez participer à un webinaire (ou webinar en anglais) depuis un ordinateur\, une tablette\, un smartphone ou un mini pc\, connecté à internet. Il vous suffit de suivre la procédure suivante : \n\nCliquez sur le lien que vous avez reçu par mail\,\nRentrez\, si besoin\, les informations demandées puis sur « connexion »\,\nLa plateforme du webinaire (Google Meet…) s’ouvre\,\nParamétrez votre caméra et votre micro si besoin\,\nRejoignez la réunion.\n\nDepuis la plateforme\, vous pouvez :  \n\nVisualiser en direct la présentation PowerPoint utilisée par le conférencier grâce à la retransmission vidéo de la conférence\,\nVoir et entendre le conférencier en temps réel et lui poser des questions par « chat » (boîte de dialogue écrit)\,\nIntervenir oralement\, même si nous vous conseillons d’utiliser la fenêtre de chat.\n\nPour écouter la réunion\, vous avez 2 choix : \n\nVia les hautparleurs de votre pc\, smartphone ou tablette\,\nVia les écouteurs que vous brancherez sur votre pc\, smartphone ou tablette. \n\nPour poser vos questions : Il vous suffit de taper un message dans la boîte de dialogue du « chat ». Les questions seront vues en temps réel par l’animateur et seront traitées au cours de la conférence. \n \nSi vous avez des questions ou des problèmes pour vous connecter veuillez contacter pascal ou Valentin. \n 
URL:https://cse-rentacar.fr/site/event/rdv-webinar-utilisateurs-swile-jeudi-10-mars-2022-12h00/
ATTACH;FMTTYPE=image/png:https://cse-rentacar.fr/site/wp-content/uploads/2022/02/WEBINAR-2.png
END:VEVENT
END:VCALENDAR