BEGIN:VCALENDAR
VERSION:2.0
PRODID:-//cse-rentacar - ECPv5.8.1//NONSGML v1.0//EN
CALSCALE:GREGORIAN
METHOD:PUBLISH
X-WR-CALNAME:cse-rentacar
X-ORIGINAL-URL:https://cse-rentacar.fr/site
X-WR-CALDESC:évènements pour cse-rentacar
BEGIN:VTIMEZONE
TZID:Europe/Paris
BEGIN:DAYLIGHT
TZOFFSETFROM:+0100
TZOFFSETTO:+0200
TZNAME:CEST
DTSTART:20240331T010000
END:DAYLIGHT
BEGIN:STANDARD
TZOFFSETFROM:+0200
TZOFFSETTO:+0100
TZNAME:CET
DTSTART:20241027T010000
END:STANDARD
END:VTIMEZONE
BEGIN:VEVENT
DTSTART;VALUE=DATE:20240528
DTEND;VALUE=DATE:20240529
DTSTAMP:20260424T175947
CREATED:20240522T135153Z
LAST-MODIFIED:20240522T135853Z
UID:5387-1716854400-1716940799@cse-rentacar.fr
SUMMARY:REUNION CSE | 28/05/24
DESCRIPTION:REUNION CSE | 28/05/24 \nRéunion des élu(e)s\, \nSi vous avez des questions ou des sujets veuillez nous les transmettre avant cette date.
URL:https://cse-rentacar.fr/site/event/reunion-cse-28-05-24/
ATTACH;FMTTYPE=image/jpeg:https://cse-rentacar.fr/site/wp-content/uploads/2024/05/reunion_cse.jpg
END:VEVENT
END:VCALENDAR